BEGIN:VCALENDAR
VERSION:2.0
PRODID:-//633d4c166c3f34703f4bc8b2a7283f509a5de92b//NONSGML kigkonsult.se i
 Calcreator 2.39.1//
CALSCALE:GREGORIAN
UID:52a61faa-2e17-42c2-8242-3ba482470394
BEGIN:VTIMEZONE
TZID:UTC
END:VTIMEZONE
BEGIN:VEVENT
UID:ef058039-fa40-4743-9f68-c8371e6aa132
DTSTAMP:20260422T225843Z
CLASS:PUBLIC
DESCRIPTION:
DTSTART;TZID=Europe/Vienna:20260627T123000
DTEND;TZID=Europe/Vienna:20260627T133000
LOCATION:
SEQUENCE:1
SUMMARY:Trauung von Georg Josef Martin Gleiß und Magdalena Huber
TRANSP:OPAQUE
END:VEVENT
END:VCALENDAR
