BEGIN:VCALENDAR
VERSION:2.0
PRODID:-//920e0ac08f33525cf9c9d37cdbf8ba8177a92b74//NONSGML kigkonsult.se i
 Calcreator 2.39.1//
CALSCALE:GREGORIAN
UID:42244ff1-0feb-4a52-98c8-2e9e48570947
BEGIN:VTIMEZONE
TZID:UTC
END:VTIMEZONE
BEGIN:VEVENT
UID:c7b0fddd-b2f2-4383-ac1a-7264fbd09de6
DTSTAMP:20260422T225843Z
CLASS:PUBLIC
DESCRIPTION:
DTSTART;TZID=Europe/Vienna:20260801T110000
DTEND;TZID=Europe/Vienna:20260801T120000
LOCATION:
SEQUENCE:1
SUMMARY:Taufe von Valentin Franz Stimpfl und Theodor Franz Stimpfl
TRANSP:OPAQUE
END:VEVENT
END:VCALENDAR
