BEGIN:VCALENDAR
VERSION:2.0
PRODID:-//9caa6881763dbed6a8b5f773b3999ec9ca84e735//NONSGML kigkonsult.se i
 Calcreator 2.39.1//
CALSCALE:GREGORIAN
UID:2a4ff484-4383-4a87-8c56-cd4eac2ac239
BEGIN:VTIMEZONE
TZID:UTC
END:VTIMEZONE
BEGIN:VEVENT
UID:1097a239-f463-408b-9578-48b88426b741
DTSTAMP:20260422T212956Z
CLASS:PUBLIC
DESCRIPTION:
DTSTART;TZID=Europe/Vienna:20260531T110000
DTEND;TZID=Europe/Vienna:20260531T120000
LOCATION:
SEQUENCE:1
SUMMARY:Taufe von Flora Hinterhofer
TRANSP:OPAQUE
END:VEVENT
END:VCALENDAR
