BEGIN:VCALENDAR
VERSION:2.0
PRODID:-//8b1b2b2373dab9e3c7935113e44e88092eb177a3//NONSGML kigkonsult.se i
 Calcreator 2.39.1//
CALSCALE:GREGORIAN
UID:220f2931-87ab-459b-a526-e034f6ce67c8
BEGIN:VTIMEZONE
TZID:UTC
END:VTIMEZONE
BEGIN:VEVENT
UID:a0a3fe1e-9095-4ad9-9c04-39524e6d8b70
DTSTAMP:20260422T212229Z
CLASS:PUBLIC
DESCRIPTION:
DTSTART;TZID=Europe/Vienna:20260530T180000
DTEND;TZID=Europe/Vienna:20260530T190000
LOCATION:
SEQUENCE:1
SUMMARY:Rosenkranz
TRANSP:OPAQUE
END:VEVENT
END:VCALENDAR
