BEGIN:VCALENDAR
VERSION:2.0
PRODID:-//d365eb1190a642f5194fe9390e2192bec04ce645//NONSGML kigkonsult.se i
 Calcreator 2.39.1//
CALSCALE:GREGORIAN
UID:29a72686-b8b9-4e07-828c-4d166012a520
BEGIN:VTIMEZONE
TZID:UTC
END:VTIMEZONE
BEGIN:VEVENT
UID:c7c1cf41-200a-4636-9f83-6c51477abe52
DTSTAMP:20260422T225542Z
CLASS:PUBLIC
DESCRIPTION:Nagl für + Eltern\, Großeltern und Verwandte
DTSTART;TZID=Europe/Vienna:20260614T083000
DTEND;TZID=Europe/Vienna:20260614T093000
LOCATION:
SEQUENCE:1
SUMMARY:Hl. Messe
TRANSP:OPAQUE
END:VEVENT
END:VCALENDAR
