BEGIN:VCALENDAR
VERSION:2.0
PRODID:-//9f3012f7ed9c67eb7518e27dd6891f75784d1594//NONSGML kigkonsult.se i
 Calcreator 2.39.1//
CALSCALE:GREGORIAN
UID:2896bc6c-58e9-4b19-a02d-8dcd0b03c48f
BEGIN:VTIMEZONE
TZID:UTC
END:VTIMEZONE
BEGIN:VEVENT
UID:9fd27680-6e6c-4a2e-95d5-0d3bd102225e
DTSTAMP:20260422T212956Z
CLASS:PUBLIC
DESCRIPTION:
DTSTART;TZID=Europe/Vienna:20260606T180000
DTEND;TZID=Europe/Vienna:20260606T190000
LOCATION:
SEQUENCE:1
SUMMARY:Rosenkranz
TRANSP:OPAQUE
END:VEVENT
END:VCALENDAR
