BEGIN:VCALENDAR
VERSION:2.0
PRODID:-//d19f0ce15f6bf07afc9171e796b2ea941d88ff9f//NONSGML kigkonsult.se i
 Calcreator 2.39.1//
CALSCALE:GREGORIAN
UID:1ea7f050-d419-4a06-8719-8178dbdad14c
BEGIN:VTIMEZONE
TZID:UTC
END:VTIMEZONE
BEGIN:VEVENT
UID:74e6706c-b062-4cc0-847e-83416713b68f
DTSTAMP:20260422T212142Z
CLASS:PUBLIC
DESCRIPTION:
DTSTART;TZID=Europe/Vienna:20260502T180000
DTEND;TZID=Europe/Vienna:20260502T190000
LOCATION:
SEQUENCE:1
SUMMARY:Rosenkranz
TRANSP:OPAQUE
END:VEVENT
END:VCALENDAR
