BEGIN:VCALENDAR
VERSION:2.0
PRODID:-//8f617abcd39c0f1938ebded8439b4a220f7f8dc3//NONSGML kigkonsult.se i
 Calcreator 2.39.1//
CALSCALE:GREGORIAN
UID:ec9e2e94-18a0-4a68-9dc4-9d4c0cfed51d
BEGIN:VTIMEZONE
TZID:UTC
END:VTIMEZONE
BEGIN:VEVENT
UID:8f13be09-ef7f-44ec-bb1c-ed7d7e05c44d
DTSTAMP:20260422T225657Z
CLASS:PUBLIC
DESCRIPTION:
DTSTART;TZID=Europe/Vienna:20260919T180000
DTEND;TZID=Europe/Vienna:20260919T190000
LOCATION:
SEQUENCE:1
SUMMARY:Rosenkranz und Beichtgelegenheit
TRANSP:OPAQUE
END:VEVENT
END:VCALENDAR
