BEGIN:VCALENDAR
VERSION:2.0
PRODID:-//9fbf10abbbd6f8e8640c806d872a12c856973075//NONSGML kigkonsult.se i
 Calcreator 2.39.1//
CALSCALE:GREGORIAN
UID:2b3f382a-714f-4aa8-a0bf-891364a9944e
BEGIN:VTIMEZONE
TZID:UTC
END:VTIMEZONE
BEGIN:VEVENT
UID:65d3a6f1-1cb7-43c8-b3ae-0e95a5069867
DTSTAMP:20260422T225657Z
CLASS:PUBLIC
DESCRIPTION:
DTSTART;TZID=Europe/Vienna:20261003T180000
DTEND;TZID=Europe/Vienna:20261003T190000
LOCATION:
SEQUENCE:1
SUMMARY:Rosenkranz und Beichtgelegenheit
TRANSP:OPAQUE
END:VEVENT
END:VCALENDAR
