BEGIN:VCALENDAR
VERSION:2.0
PRODID:-//d59a8b33b0f7d48d77f1b8ef01c372e05db1f4b7//NONSGML kigkonsult.se i
 Calcreator 2.39.1//
CALSCALE:GREGORIAN
UID:c6f0ef52-c482-4f13-aa34-86ee2f063665
BEGIN:VTIMEZONE
TZID:UTC
END:VTIMEZONE
BEGIN:VEVENT
UID:7f8dde31-9a07-4c98-9ed0-63001e98acf3
DTSTAMP:20260422T212307Z
CLASS:PUBLIC
DESCRIPTION:
DTSTART;TZID=Europe/Vienna:20260523T180000
DTEND;TZID=Europe/Vienna:20260523T190000
LOCATION:
SEQUENCE:1
SUMMARY:Rosenkranz
TRANSP:OPAQUE
END:VEVENT
END:VCALENDAR
