BEGIN:VCALENDAR
VERSION:2.0
PRODID:-//ba8352b57be666d98bcfc3785d58f445a58d44b9//NONSGML kigkonsult.se i
 Calcreator 2.39.1//
CALSCALE:GREGORIAN
UID:fb6de839-ba19-4e59-a9f1-4d51f6a0fa29
BEGIN:VTIMEZONE
TZID:UTC
END:VTIMEZONE
BEGIN:VEVENT
UID:bf6e6d31-31fb-415b-96a1-0160c1c22bf9
DTSTAMP:20260422T212321Z
CLASS:PUBLIC
DESCRIPTION:
DTSTART;TZID=Europe/Vienna:20260516T180000
DTEND;TZID=Europe/Vienna:20260516T190000
LOCATION:
SEQUENCE:1
SUMMARY:Rosenkranz
TRANSP:OPAQUE
END:VEVENT
END:VCALENDAR
