BEGIN:VCALENDAR
VERSION:2.0
PRODID:-//bc4bc6945cc4b583abd9c35754565001837399a6//NONSGML kigkonsult.se i
 Calcreator 2.39.1//
CALSCALE:GREGORIAN
UID:17506f74-f73d-4db1-85c1-166a34b9112d
BEGIN:VTIMEZONE
TZID:UTC
END:VTIMEZONE
BEGIN:VEVENT
UID:20093bb4-89f3-4223-adf4-ed887342f43b
DTSTAMP:20260422T201208Z
CLASS:PUBLIC
DESCRIPTION:
DTSTART;TZID=Europe/Vienna:20260509T180000
DTEND;TZID=Europe/Vienna:20260509T190000
LOCATION:
SEQUENCE:1
SUMMARY:Rosenkranz
TRANSP:OPAQUE
END:VEVENT
END:VCALENDAR
