BEGIN:VCALENDAR
VERSION:2.0
PRODID:-//2c4ea8b2b446dd894949fc130ac6005cb69b3c90//NONSGML kigkonsult.se i
 Calcreator 2.39.1//
CALSCALE:GREGORIAN
UID:9c763377-2a8c-47ac-9acd-c918a8193d3b
BEGIN:VTIMEZONE
TZID:UTC
END:VTIMEZONE
BEGIN:VEVENT
UID:00a7dd0c-3de1-45a5-a27b-61d66c3a8821
DTSTAMP:20260422T212403Z
CLASS:PUBLIC
DESCRIPTION:Keine Hl. Messe in der Kirche Prinzersdorf
DTSTART;TZID=Europe/Vienna:20260525T000000
DTEND;TZID=Europe/Vienna:20260525T000000
LOCATION:
SEQUENCE:1
SUMMARY:Pfarrverbandsmesse in der Pfarrkirche Gerersdorf
TRANSP:OPAQUE
END:VEVENT
END:VCALENDAR
