BEGIN:VCALENDAR
VERSION:2.0
PRODID:-//b86aa9a0c272e8b482c1e3530794542fc98b5f69//NONSGML kigkonsult.se i
 Calcreator 2.39.1//
CALSCALE:GREGORIAN
UID:5e33cac9-3971-4e9e-b7ca-6a8042660176
BEGIN:VTIMEZONE
TZID:UTC
END:VTIMEZONE
BEGIN:VEVENT
UID:2cf4efaf-2099-442c-8405-4e11c6894e9d
DTSTAMP:20260422T212508Z
CLASS:PUBLIC
DESCRIPTION:Hl. Messe
DTSTART;TZID=Europe/Vienna:20260525T083000
DTEND;TZID=Europe/Vienna:20260525T093000
LOCATION:
SEQUENCE:1
SUMMARY:Pfarrverbandsmesse in der Pfarrkirche Gerersdorf
TRANSP:OPAQUE
END:VEVENT
END:VCALENDAR
