BEGIN:VCALENDAR
VERSION:2.0
PRODID:-//b44de92d116b41bca4a3a8706dae2f8d3e4f737f//NONSGML kigkonsult.se i
 Calcreator 2.39.1//
CALSCALE:GREGORIAN
UID:29f61344-0f61-4674-bd66-23ecddbc9edb
BEGIN:VTIMEZONE
TZID:UTC
END:VTIMEZONE
BEGIN:VEVENT
UID:92a55075-bd01-43a0-8b8c-765508e7814a
DTSTAMP:20260422T225542Z
CLASS:PUBLIC
DESCRIPTION:Hl. Messe
DTSTART;TZID=Europe/Vienna:20260815T083000
DTEND;TZID=Europe/Vienna:20260815T093000
LOCATION:
SEQUENCE:1
SUMMARY:Maria Himmelfahrt
TRANSP:OPAQUE
END:VEVENT
END:VCALENDAR
