BEGIN:VCALENDAR
VERSION:2.0
PRODID:-//230ab8b0ceff4d00176fe0ae26483b033e625728//NONSGML kigkonsult.se i
 Calcreator 2.39.1//
CALSCALE:GREGORIAN
UID:b4086ac1-6af0-455d-abba-069e7560bc77
BEGIN:VTIMEZONE
TZID:UTC
END:VTIMEZONE
BEGIN:VEVENT
UID:0a803ef6-ed7c-4c93-bbc1-7af2bfea1b03
DTSTAMP:20260422T225137Z
CLASS:PUBLIC
DESCRIPTION:Hochzeits- und Jubiläumsmesse mit anschl. Agape
DTSTART;TZID=Europe/Vienna:20260905T170000
DTEND;TZID=Europe/Vienna:20260905T180000
LOCATION:
SEQUENCE:1
SUMMARY:Jubiläumsmesse
TRANSP:OPAQUE
END:VEVENT
END:VCALENDAR
