BEGIN:VCALENDAR
VERSION:2.0
PRODID:-//0058631a516cd2c29a5ec94f77c43a30694de742//NONSGML kigkonsult.se i
 Calcreator 2.39.1//
CALSCALE:GREGORIAN
UID:c2f894b0-f65b-42c7-92fd-f96d26facb2c
BEGIN:VTIMEZONE
TZID:UTC
END:VTIMEZONE
BEGIN:VEVENT
UID:6dfbec41-b411-41ec-b479-d2a351bf6ffd
DTSTAMP:20260422T212102Z
CLASS:PUBLIC
DESCRIPTION:
DTSTART;TZID=Europe/Vienna:20260531T083000
DTEND;TZID=Europe/Vienna:20260531T093000
LOCATION:
SEQUENCE:1
SUMMARY:Hl. Messe
TRANSP:OPAQUE
END:VEVENT
END:VCALENDAR
