BEGIN:VCALENDAR
VERSION:2.0
PRODID:-//ed6dfb87eb440005284d551e091fe248a6236987//NONSGML kigkonsult.se i
 Calcreator 2.39.1//
CALSCALE:GREGORIAN
UID:dcffdc24-c523-430e-b4f1-2d5fa752ecbb
BEGIN:VTIMEZONE
TZID:UTC
END:VTIMEZONE
BEGIN:VEVENT
UID:f2a54cfa-fb6d-4dd1-8970-8fe6f4849745
DTSTAMP:20260422T225456Z
CLASS:PUBLIC
DESCRIPTION:
DTSTART;TZID=Europe/Vienna:20260830T083000
DTEND;TZID=Europe/Vienna:20260830T093000
LOCATION:
SEQUENCE:1
SUMMARY:Hl. Messe
TRANSP:OPAQUE
END:VEVENT
END:VCALENDAR
