BEGIN:VCALENDAR
VERSION:2.0
PRODID:-//e0b9d5c8575830ff98f531523b9599c48288e1e4//NONSGML kigkonsult.se i
 Calcreator 2.39.1//
CALSCALE:GREGORIAN
UID:af9e0313-84c1-43b1-b520-36ff24aec639
BEGIN:VTIMEZONE
TZID:UTC
END:VTIMEZONE
BEGIN:VEVENT
UID:889b0826-eee2-451e-a4b4-9322d52841c6
DTSTAMP:20260422T225250Z
CLASS:PUBLIC
DESCRIPTION:
DTSTART;TZID=Europe/Vienna:20260927T083000
DTEND;TZID=Europe/Vienna:20260927T093000
LOCATION:
SEQUENCE:1
SUMMARY:Hl. Messe
TRANSP:OPAQUE
END:VEVENT
END:VCALENDAR
