BEGIN:VCALENDAR
VERSION:2.0
PRODID:-//8a23fc5af0410a2a65ec6a3041d313c6b7acfae0//NONSGML kigkonsult.se i
 Calcreator 2.39.1//
CALSCALE:GREGORIAN
UID:055e38a9-1c38-461c-9725-a839ff595e71
BEGIN:VTIMEZONE
TZID:UTC
END:VTIMEZONE
BEGIN:VEVENT
UID:aef392bf-3b54-4d33-afec-5e7be6115031
DTSTAMP:20260422T212142Z
CLASS:PUBLIC
DESCRIPTION:
DTSTART;TZID=Europe/Vienna:20260527T183000
DTEND;TZID=Europe/Vienna:20260527T193000
LOCATION:
SEQUENCE:1
SUMMARY:Hl. Messe
TRANSP:OPAQUE
END:VEVENT
END:VCALENDAR
