BEGIN:VCALENDAR
VERSION:2.0
PRODID:-//c693d37f1a44a735ffe7926c59e5d298e06e7265//NONSGML kigkonsult.se i
 Calcreator 2.39.1//
CALSCALE:GREGORIAN
UID:c7ba4e2a-f78c-401b-8e2d-a695cc2ace1b
BEGIN:VTIMEZONE
TZID:UTC
END:VTIMEZONE
BEGIN:VEVENT
UID:107dc0e5-6785-41b2-8f44-fe97d1b85fe1
DTSTAMP:20260422T225455Z
CLASS:PUBLIC
DESCRIPTION:
DTSTART;TZID=Europe/Vienna:20260625T183000
DTEND;TZID=Europe/Vienna:20260625T193000
LOCATION:
SEQUENCE:1
SUMMARY:Hl. Messe
TRANSP:OPAQUE
END:VEVENT
END:VCALENDAR
