BEGIN:VCALENDAR
VERSION:2.0
PRODID:-//a3984faf9b44a8a00e5228bf8e421217ed8babd5//NONSGML kigkonsult.se i
 Calcreator 2.39.1//
CALSCALE:GREGORIAN
UID:9dc52d3e-60c2-4f27-8c5f-8a27d6b22d4e
BEGIN:VTIMEZONE
TZID:UTC
END:VTIMEZONE
BEGIN:VEVENT
UID:89dee6dc-f8a9-4fad-8e8f-8583fe5a80de
DTSTAMP:20260422T212011Z
CLASS:PUBLIC
DESCRIPTION:Fr. Schuecker zum schuldigen Dank
DTSTART;TZID=Europe/Vienna:20260524T100000
DTEND;TZID=Europe/Vienna:20260524T110000
LOCATION:
SEQUENCE:1
SUMMARY:Hl. Messe
TRANSP:OPAQUE
END:VEVENT
END:VCALENDAR
