BEGIN:VCALENDAR
VERSION:2.0
PRODID:-//b0d4473d33af8cbb4f3db076622cb6e9ef33e612//NONSGML kigkonsult.se i
 Calcreator 2.39.1//
CALSCALE:GREGORIAN
UID:ce58f07e-05ee-46fb-8a73-9af8fd768c31
BEGIN:VTIMEZONE
TZID:UTC
END:VTIMEZONE
BEGIN:VEVENT
UID:cf5dd68c-fe8d-4fc8-8e05-a79f9f384c3e
DTSTAMP:20260422T225450Z
CLASS:PUBLIC
DESCRIPTION:(Bei Schlechtwetter ist die Hl. Messe in der Pfarrkirche Hafner
 bach.)
DTSTART;TZID=Europe/Vienna:20260723T183000
DTEND;TZID=Europe/Vienna:20260723T193000
LOCATION:
SEQUENCE:1
SUMMARY:Dorfmesse in Pfaffing
TRANSP:OPAQUE
END:VEVENT
END:VCALENDAR
