BEGIN:VCALENDAR
VERSION:2.0
PRODID:-//03138df78494d976bec7363437417869a616aff0//NONSGML kigkonsult.se i
 Calcreator 2.39.1//
CALSCALE:GREGORIAN
UID:b7ced8c0-f7a1-4a1c-ae15-e23686d24c01
BEGIN:VTIMEZONE
TZID:UTC
END:VTIMEZONE
BEGIN:VEVENT
UID:4094fff9-7008-4ece-89b7-0003b73f1e86
DTSTAMP:20260422T230459Z
CLASS:PUBLIC
DESCRIPTION:Fam. Schäbinger f. + Anton Schäbinger\, Geschwister Christine u
 . Herbert und + Eltern (17) - Ewiges Licht
DTSTART;TZID=Europe/Vienna:20261220T080000
DTEND;TZID=Europe/Vienna:20261220T090000
LOCATION:
SEQUENCE:1
SUMMARY:Hl. Messe
TRANSP:OPAQUE
END:VEVENT
END:VCALENDAR
