BEGIN:VCALENDAR
VERSION:2.0
PRODID:-//8f3170e6494afd291f8d8be39d8b51e3a4c41c72//NONSGML kigkonsult.se i
 Calcreator 2.39.1//
CALSCALE:GREGORIAN
UID:0eaf9cc2-6109-47a3-a852-5c714ab83eaa
BEGIN:VTIMEZONE
TZID:UTC
END:VTIMEZONE
BEGIN:VEVENT
UID:af670575-7da9-47b0-9572-419e80ed3168
DTSTAMP:20260422T212056Z
CLASS:PUBLIC
DESCRIPTION:Dorfgemeinschaft Loipersdorf\, Zu Ehren des hl. Nepomuk / Für +
  Franz Schmatz
DTSTART;TZID=Europe/Vienna:20260520T183000
DTEND;TZID=Europe/Vienna:20260520T193000
LOCATION:
SEQUENCE:1
SUMMARY:Hl. Messe
TRANSP:OPAQUE
END:VEVENT
END:VCALENDAR
