BEGIN:VCALENDAR
VERSION:2.0
PRODID:-//06d56f9b8d23756714bbc8bbc44adfcd040c1d91//NONSGML kigkonsult.se i
 Calcreator 2.39.1//
CALSCALE:GREGORIAN
UID:a04828ef-3f56-40df-8912-646c4e63d1ec
BEGIN:VTIMEZONE
TZID:UTC
END:VTIMEZONE
BEGIN:VEVENT
UID:6c9c56d6-c0de-4749-84fa-9f1330b6d722
DTSTAMP:20260422T225352Z
CLASS:PUBLIC
DESCRIPTION:Für +Leopold Zöchbauer
DTSTART;TZID=Europe/Vienna:20260618T183000
DTEND;TZID=Europe/Vienna:20260618T193000
LOCATION:
SEQUENCE:1
SUMMARY:Hl. Messe
TRANSP:OPAQUE
END:VEVENT
END:VCALENDAR
