BEGIN:VCALENDAR
VERSION:2.0
PRODID:-//36e6966b38035411c0372a87c0634baa8821607a//NONSGML kigkonsult.se i
 Calcreator 2.39.1//
CALSCALE:GREGORIAN
UID:08f2c72f-8d90-4506-a432-61aa2c1fa1e3
BEGIN:VTIMEZONE
TZID:UTC
END:VTIMEZONE
BEGIN:VEVENT
UID:4531f483-ff9d-4b37-8ae3-416bc7ea16c2
DTSTAMP:20260422T225137Z
CLASS:PUBLIC
DESCRIPTION:für + Sohn Wolfgang Dür zum Sterbetag (29) Ewiges Licht
DTSTART;TZID=Europe/Vienna:20260816T093000
DTEND;TZID=Europe/Vienna:20260816T103000
LOCATION:
SEQUENCE:1
SUMMARY:Hl. Messe
TRANSP:OPAQUE
END:VEVENT
END:VCALENDAR
