BEGIN:VCALENDAR
VERSION:2.0
PRODID:-//3c07cea31c18ca22dd76a50ae5074535e9eb4895//NONSGML kigkonsult.se i
 Calcreator 2.39.1//
CALSCALE:GREGORIAN
UID:790737fb-cc3c-47ef-81c3-43d4a8126696
BEGIN:VTIMEZONE
TZID:UTC
END:VTIMEZONE
BEGIN:VEVENT
UID:516861a7-755c-45a9-aa51-286010c0fed1
DTSTAMP:20260422T225521Z
CLASS:PUBLIC
DESCRIPTION:Familie Rieß für + Emmerich Rieß\, für + Eltern Emmerich und Th
 eresia Rieß und für alle + Verwandten der Familie Rieß (50) - Ewiges Licht
DTSTART;TZID=Europe/Vienna:20260816T080000
DTEND;TZID=Europe/Vienna:20260816T090000
LOCATION:
SEQUENCE:1
SUMMARY:Hl. Messe
TRANSP:OPAQUE
END:VEVENT
END:VCALENDAR
