BEGIN:VCALENDAR
VERSION:2.0
PRODID:-//5e9d859cea5beafb88c5b1f4e62b62c06a38f7df//NONSGML kigkonsult.se i
 Calcreator 2.39.1//
CALSCALE:GREGORIAN
UID:122a38a1-dd62-461a-8b3e-507a1ee7e029
BEGIN:VTIMEZONE
TZID:UTC
END:VTIMEZONE
BEGIN:VEVENT
UID:71981d7c-7e23-42d6-b9a8-ff1ad72e191a
DTSTAMP:20260422T225450Z
CLASS:PUBLIC
DESCRIPTION:
DTSTART;TZID=Europe/Vienna:20260813T183000
DTEND;TZID=Europe/Vienna:20260813T193000
LOCATION:
SEQUENCE:1
SUMMARY:Hl. Messe
TRANSP:OPAQUE
END:VEVENT
END:VCALENDAR
