BEGIN:VCALENDAR
VERSION:2.0
PRODID:-//ed14a1be052f50c0970b7af008aff7c6e49639f1//NONSGML kigkonsult.se i
 Calcreator 2.39.1//
CALSCALE:GREGORIAN
UID:23eb4bff-27cd-4e7d-8c6c-75c272fd70d8
BEGIN:VTIMEZONE
TZID:UTC
END:VTIMEZONE
BEGIN:VEVENT
UID:3f7246dc-aea1-495f-a876-3e3c3106e5ff
DTSTAMP:20260422T225143Z
CLASS:PUBLIC
DESCRIPTION:
DTSTART;TZID=Europe/Vienna:20260809T083000
DTEND;TZID=Europe/Vienna:20260809T093000
LOCATION:
SEQUENCE:1
SUMMARY:Hl. Messe
TRANSP:OPAQUE
END:VEVENT
END:VCALENDAR
