BEGIN:VCALENDAR
VERSION:2.0
PRODID:-//a71fa21c9af267a9a5c088a7e260ffcfd2d8a291//NONSGML kigkonsult.se i
 Calcreator 2.39.1//
CALSCALE:GREGORIAN
UID:9aa3bc66-2b90-4b8e-aece-548deba6153b
BEGIN:VTIMEZONE
TZID:UTC
END:VTIMEZONE
BEGIN:VEVENT
UID:91fc437c-1544-4476-b8d5-3ba190887357
DTSTAMP:20260422T212909Z
CLASS:PUBLIC
DESCRIPTION:
DTSTART;TZID=Europe/Vienna:20260607T100000
DTEND;TZID=Europe/Vienna:20260607T110000
LOCATION:
SEQUENCE:1
SUMMARY:Hl. Messe
TRANSP:OPAQUE
END:VEVENT
END:VCALENDAR
