BEGIN:VCALENDAR
VERSION:2.0
PRODID:-//3fbeda3e8771735e90de4f53deee9d8fff2e63f5//NONSGML kigkonsult.se i
 Calcreator 2.39.1//
CALSCALE:GREGORIAN
UID:ec3d1b95-dc09-4ef8-b293-be9fcd92264b
BEGIN:VTIMEZONE
TZID:UTC
END:VTIMEZONE
BEGIN:VEVENT
UID:f5f82d77-99b1-47f4-9dbc-47304689888a
DTSTAMP:20260422T225455Z
CLASS:PUBLIC
DESCRIPTION:Fr. Riegler für + Gatten Josef\, + Eltern Emmerich und Stephani
 e\, + Schwiegermutter zum Sterbetag und für alle + der Familie (49) - Ewig
 es Licht
DTSTART;TZID=Europe/Vienna:20260705T080000
DTEND;TZID=Europe/Vienna:20260705T090000
LOCATION:
SEQUENCE:1
SUMMARY:Hl. Messe
TRANSP:OPAQUE
END:VEVENT
END:VCALENDAR
