BEGIN:VCALENDAR
VERSION:2.0
PRODID:-//8404acb92340f302af529602cb1bb13fdedeb4ba//NONSGML kigkonsult.se i
 Calcreator 2.39.1//
CALSCALE:GREGORIAN
UID:22867ca3-f037-40eb-9e1c-9581bd8b4b94
BEGIN:VTIMEZONE
TZID:UTC
END:VTIMEZONE
BEGIN:VEVENT
UID:4430a99f-5dcf-42fe-94c8-ba3a7f17ae29
DTSTAMP:20260422T225250Z
CLASS:PUBLIC
DESCRIPTION:
DTSTART;TZID=Europe/Vienna:20260705T083000
DTEND;TZID=Europe/Vienna:20260705T093000
LOCATION:
SEQUENCE:1
SUMMARY:Hl. Messe
TRANSP:OPAQUE
END:VEVENT
END:VCALENDAR
