BEGIN:VCALENDAR
VERSION:2.0
PRODID:-//aa07f226be32c5e2cb24f5833a1d26087854c872//NONSGML kigkonsult.se i
 Calcreator 2.39.1//
CALSCALE:GREGORIAN
UID:1ec7a874-8bb1-4559-97d6-1d10920d2290
BEGIN:VTIMEZONE
TZID:UTC
END:VTIMEZONE
BEGIN:VEVENT
UID:4ecc8443-2b3c-451f-a8cb-d8284c09daf0
DTSTAMP:20260422T201817Z
CLASS:PUBLIC
DESCRIPTION:Fr. Schuecker für + Schwester Theresia und Bruder Franz
DTSTART;TZID=Europe/Vienna:20260505T183000
DTEND;TZID=Europe/Vienna:20260505T193000
LOCATION:
SEQUENCE:1
SUMMARY:Hl. Messe
TRANSP:OPAQUE
END:VEVENT
END:VCALENDAR
