BEGIN:VCALENDAR
VERSION:2.0
PRODID:-//9e0bce3b1d7030621a01ba7e29a08133823d7412//NONSGML kigkonsult.se i
 Calcreator 2.39.1//
CALSCALE:GREGORIAN
UID:a552ef68-c322-48aa-98b3-384608d0d6b9
BEGIN:VTIMEZONE
TZID:UTC
END:VTIMEZONE
BEGIN:VEVENT
UID:121d316e-4c5c-47d8-8434-442c3e9efd6d
DTSTAMP:20260422T225352Z
CLASS:PUBLIC
DESCRIPTION:
DTSTART;TZID=Europe/Vienna:20260903T183000
DTEND;TZID=Europe/Vienna:20260903T193000
LOCATION:
SEQUENCE:1
SUMMARY:Hl. Messe
TRANSP:OPAQUE
END:VEVENT
END:VCALENDAR
