BEGIN:VCALENDAR
VERSION:2.0
PRODID:-//5dad986e25a6a3e8bd3730a08bf915f0fd6bc1b6//NONSGML kigkonsult.se i
 Calcreator 2.39.1//
CALSCALE:GREGORIAN
UID:d86c4092-df10-42cc-ad12-dcacf93e1c72
BEGIN:VTIMEZONE
TZID:UTC
END:VTIMEZONE
BEGIN:VEVENT
UID:3e1e1bd5-70a0-4de6-88c6-8c89c8b45458
DTSTAMP:20260422T212935Z
CLASS:PUBLIC
DESCRIPTION:
DTSTART;TZID=Europe/Vienna:20260610T080000
DTEND;TZID=Europe/Vienna:20260610T090000
LOCATION:
SEQUENCE:1
SUMMARY:Hl. Messe
TRANSP:OPAQUE
END:VEVENT
END:VCALENDAR
