BEGIN:VCALENDAR
VERSION:2.0
PRODID:-//c8223bb03dc3a3323f35704fdc1a8f75e5677e07//NONSGML kigkonsult.se i
 Calcreator 2.39.1//
CALSCALE:GREGORIAN
UID:9eb1c86a-f1e8-4d07-9a92-0126cdbd7429
BEGIN:VTIMEZONE
TZID:UTC
END:VTIMEZONE
BEGIN:VEVENT
UID:0a8e6cb7-faeb-4c87-b25c-02ee4f331e57
DTSTAMP:20260422T225310Z
CLASS:PUBLIC
DESCRIPTION:
DTSTART;TZID=Europe/Vienna:20260702T183000
DTEND;TZID=Europe/Vienna:20260702T193000
LOCATION:
SEQUENCE:1
SUMMARY:Hl. Messe
TRANSP:OPAQUE
END:VEVENT
END:VCALENDAR
