BEGIN:VCALENDAR
VERSION:2.0
PRODID:-//ee6534d72bbb660f66d848e0d5637b89c2192229//NONSGML kigkonsult.se i
 Calcreator 2.39.1//
CALSCALE:GREGORIAN
UID:2ab4a6fd-414b-47d4-812c-1ef4a2417d5f
BEGIN:VTIMEZONE
TZID:UTC
END:VTIMEZONE
BEGIN:VEVENT
UID:6b0f2510-41e6-404b-bcaf-d8e3e6903a30
DTSTAMP:20260422T225310Z
CLASS:PUBLIC
DESCRIPTION:Für + Herbert Schmied
DTSTART;TZID=Europe/Vienna:20261001T183000
DTEND;TZID=Europe/Vienna:20261001T193000
LOCATION:
SEQUENCE:1
SUMMARY:Hl. Messe
TRANSP:OPAQUE
END:VEVENT
END:VCALENDAR
