BEGIN:VCALENDAR
VERSION:2.0
PRODID:-//7008abe136a00bb8c4a6e203e78f536da45168b2//NONSGML kigkonsult.se i
 Calcreator 2.39.1//
CALSCALE:GREGORIAN
UID:579ec6af-e837-4658-abc0-f6fd3d01a7bd
BEGIN:VTIMEZONE
TZID:UTC
END:VTIMEZONE
BEGIN:VEVENT
UID:bbdb49b0-94ca-4886-af0e-459d2afa75a0
DTSTAMP:20260422T212056Z
CLASS:PUBLIC
DESCRIPTION:
DTSTART;TZID=Europe/Vienna:20260531T100000
DTEND;TZID=Europe/Vienna:20260531T110000
LOCATION:
SEQUENCE:1
SUMMARY:Hl. Messe
TRANSP:OPAQUE
END:VEVENT
END:VCALENDAR
