BEGIN:VCALENDAR
VERSION:2.0
PRODID:-//3f6344e7a78b5f047983ed7527dea2812f53f9c1//NONSGML kigkonsult.se i
 Calcreator 2.39.1//
CALSCALE:GREGORIAN
UID:3e1c4fb9-3b37-4c9c-bcb8-4d47d6886def
BEGIN:VTIMEZONE
TZID:UTC
END:VTIMEZONE
BEGIN:VEVENT
UID:a97b4030-6d2e-48c3-ac05-614aa516080b
DTSTAMP:20260422T101027Z
CLASS:PUBLIC
DESCRIPTION:Seelenmesse für + Lothar Pachler
DTSTART;TZID=Europe/Vienna:20260424T170000
DTEND;TZID=Europe/Vienna:20260424T180000
LOCATION:
SEQUENCE:1
SUMMARY:Hl. Messe
TRANSP:OPAQUE
END:VEVENT
END:VCALENDAR
