BEGIN:VCALENDAR
VERSION:2.0
PRODID:-//3e89b91cbdc0c47c844cd6c78975a94b21e5a1b0//NONSGML kigkonsult.se i
 Calcreator 2.39.1//
CALSCALE:GREGORIAN
UID:ed055246-9e3f-49c1-9426-d4b19a09f339
BEGIN:VTIMEZONE
TZID:UTC
END:VTIMEZONE
BEGIN:VEVENT
UID:d6430075-3476-439e-856d-beee5af7e31e
DTSTAMP:20260422T212102Z
CLASS:PUBLIC
DESCRIPTION:
DTSTART;TZID=Europe/Vienna:20260517T100000
DTEND;TZID=Europe/Vienna:20260517T110000
LOCATION:
SEQUENCE:1
SUMMARY:Hl. Messe
TRANSP:OPAQUE
END:VEVENT
END:VCALENDAR
