BEGIN:VCALENDAR
VERSION:2.0
PRODID:-//4791e544448cccbe60a04a6d93fbcfba13527dba//NONSGML kigkonsult.se i
 Calcreator 2.39.1//
CALSCALE:GREGORIAN
UID:4dd47bad-02e8-4a24-8b34-2e23e11d9a31
BEGIN:VTIMEZONE
TZID:UTC
END:VTIMEZONE
BEGIN:VEVENT
UID:0e163bb0-4260-4b87-930a-8a8b8960561e
DTSTAMP:20260422T225521Z
CLASS:PUBLIC
DESCRIPTION:Für + Silvia Kreuzer
DTSTART;TZID=Europe/Vienna:20260910T183000
DTEND;TZID=Europe/Vienna:20260910T193000
LOCATION:
SEQUENCE:1
SUMMARY:Hl. Messe
TRANSP:OPAQUE
END:VEVENT
END:VCALENDAR
