BEGIN:VCALENDAR
VERSION:2.0
PRODID:-//a6a862df0c1210174f4fe92bc06f9b99aea143ad//NONSGML kigkonsult.se i
 Calcreator 2.39.1//
CALSCALE:GREGORIAN
UID:cf40b324-9db5-4c2b-883b-71080e7d8bab
BEGIN:VTIMEZONE
TZID:UTC
END:VTIMEZONE
BEGIN:VEVENT
UID:ee565971-33d4-455e-b5e3-3b2374dab431
DTSTAMP:20260422T201105Z
CLASS:PUBLIC
DESCRIPTION:Für + Bruder Franz Bandion
DTSTART;TZID=Europe/Vienna:20260508T170000
DTEND;TZID=Europe/Vienna:20260508T180000
LOCATION:
SEQUENCE:1
SUMMARY:Hl. Messe
TRANSP:OPAQUE
END:VEVENT
END:VCALENDAR
