BEGIN:VCALENDAR
VERSION:2.0
PRODID:-//93533e7f93d6c45fd0894db6ecb3174f5d9d9a10//NONSGML kigkonsult.se i
 Calcreator 2.39.1//
CALSCALE:GREGORIAN
UID:57864345-2dce-4e26-8401-8c8875c009c0
BEGIN:VTIMEZONE
TZID:UTC
END:VTIMEZONE
BEGIN:VEVENT
UID:f62ae5ed-9a7f-4b4f-9ab9-253eb411ed22
DTSTAMP:20260422T212909Z
CLASS:PUBLIC
DESCRIPTION:
DTSTART;TZID=Europe/Vienna:20260502T170000
DTEND;TZID=Europe/Vienna:20260502T180000
LOCATION:Pfarrkirche Markersdorf
SEQUENCE:1
SUMMARY:Florianimesse
TRANSP:OPAQUE
END:VEVENT
END:VCALENDAR
