BEGIN:VCALENDAR
VERSION:2.0
PRODID:-//c082bb58cd50f5710745e7baeef72f2e4dd941c3//NONSGML kigkonsult.se i
 Calcreator 2.39.1//
CALSCALE:GREGORIAN
UID:ade35f62-4ff9-4c54-9bea-570af888185a
BEGIN:VTIMEZONE
TZID:UTC
END:VTIMEZONE
BEGIN:VEVENT
UID:692d308d-ae6a-4d59-abbb-16c13711295a
DTSTAMP:20260422T212403Z
CLASS:PUBLIC
DESCRIPTION:
DTSTART;TZID=Europe/Vienna:20260522T170000
DTEND;TZID=Europe/Vienna:20260522T180000
LOCATION:
SEQUENCE:1
SUMMARY:Dorfmesse in der Kapelle Korning
TRANSP:OPAQUE
END:VEVENT
END:VCALENDAR
