BEGIN:VCALENDAR
VERSION:2.0
PRODID:-//c8a74c602b923e385c23123d73071979d744ee24//NONSGML kigkonsult.se i
 Calcreator 2.39.1//
CALSCALE:GREGORIAN
UID:60109fa3-ee7d-4468-810a-a54bc44dfe3a
BEGIN:VTIMEZONE
TZID:UTC
END:VTIMEZONE
BEGIN:VEVENT
UID:2581f928-1d6b-4b61-bffa-47478e6736d9
DTSTAMP:20260422T225249Z
CLASS:PUBLIC
DESCRIPTION:für + Gatten Dr. Josef Grubner (15)
DTSTART;TZID=Europe/Vienna:20261224T220000
DTEND;TZID=Europe/Vienna:20261224T230000
LOCATION:
SEQUENCE:1
SUMMARY:Christmette
TRANSP:OPAQUE
END:VEVENT
END:VCALENDAR
