BEGIN:VCALENDAR
VERSION:2.0
PRODID:-//82ce2d78d14f77ee41c130302a92e52de0e12b3c//NONSGML kigkonsult.se i
 Calcreator 2.39.1//
CALSCALE:GREGORIAN
UID:0b0422b6-6158-4b5b-bf59-718ac706f861
BEGIN:VTIMEZONE
TZID:UTC
END:VTIMEZONE
BEGIN:VEVENT
UID:22d32e48-d217-4f9f-836e-40364d390e6e
DTSTAMP:20260422T212011Z
CLASS:PUBLIC
DESCRIPTION:
DTSTART;TZID=Europe/Vienna:20260428T140000
DTEND;TZID=Europe/Vienna:20260428T150000
LOCATION:
SEQUENCE:1
SUMMARY:Begräbnis von + Fr. Margot Walter
TRANSP:OPAQUE
END:VEVENT
END:VCALENDAR
