BEGIN:VCALENDAR
VERSION:2.0
PRODID:-//ae613060621367ce5554cf5fb120ad2d7e9c1146//NONSGML kigkonsult.se i
 Calcreator 2.39.1//
CALSCALE:GREGORIAN
UID:fdc7879c-3421-476a-84d7-10fab6dd29fc
BEGIN:VTIMEZONE
TZID:UTC
END:VTIMEZONE
BEGIN:VEVENT
UID:4364eccf-16d6-4c34-a4cf-746828ae25f8
DTSTAMP:20260422T212321Z
CLASS:PUBLIC
DESCRIPTION:
DTSTART;TZID=Europe/Vienna:20260527T173000
DTEND;TZID=Europe/Vienna:20260527T183000
LOCATION:
SEQUENCE:1
SUMMARY:Anbetung
TRANSP:OPAQUE
END:VEVENT
END:VCALENDAR
