BEGIN:VCALENDAR
VERSION:2.0
PRODID:-//7dffaf94c9f2fe4a2a4c0b6b6688b2d5312f4f62//NONSGML kigkonsult.se i
 Calcreator 2.39.1//
CALSCALE:GREGORIAN
UID:0b9c1edc-7496-4a32-8a5f-029ca23e7aac
BEGIN:VTIMEZONE
TZID:UTC
END:VTIMEZONE
BEGIN:VEVENT
UID:f0728de7-0d0a-4e17-958c-32b8e398f0a6
DTSTAMP:20260422T212307Z
CLASS:PUBLIC
DESCRIPTION:
DTSTART;TZID=Europe/Vienna:20260520T173000
DTEND;TZID=Europe/Vienna:20260520T183000
LOCATION:
SEQUENCE:1
SUMMARY:Anbetung
TRANSP:OPAQUE
END:VEVENT
END:VCALENDAR
