BEGIN:VCALENDAR
VERSION:2.0
PRODID:-//a07d17bd6fd65cd24a7f34299207471e9a081ff0//NONSGML kigkonsult.se i
 Calcreator 2.39.1//
CALSCALE:GREGORIAN
UID:31fe97ee-0e32-4f9f-94ff-f3c01a4affb4
BEGIN:VTIMEZONE
TZID:UTC
END:VTIMEZONE
BEGIN:VEVENT
UID:41e8b020-c590-469a-9105-3b7a654d38ab
DTSTAMP:20260422T225748Z
CLASS:PUBLIC
DESCRIPTION:
DTSTART;TZID=Europe/Vienna:20260806T173000
DTEND;TZID=Europe/Vienna:20260806T183000
LOCATION:
SEQUENCE:1
SUMMARY:Anbetung und 17:55 Rosenkranz
TRANSP:OPAQUE
END:VEVENT
END:VCALENDAR
